BEGIN:VCALENDAR
VERSION:2.0
PRODID:-//PostPress - ECPv6.15.17.1//NONSGML v1.0//EN
CALSCALE:GREGORIAN
METHOD:PUBLISH
X-WR-CALNAME:PostPress
X-ORIGINAL-URL:https://postpressmag.com
X-WR-CALDESC:Events for PostPress
REFRESH-INTERVAL;VALUE=DURATION:PT1H
X-Robots-Tag:noindex
X-PUBLISHED-TTL:PT1H
BEGIN:VTIMEZONE
TZID:America/Chicago
BEGIN:DAYLIGHT
TZOFFSETFROM:-0600
TZOFFSETTO:-0500
TZNAME:CDT
DTSTART:20240310T080000
END:DAYLIGHT
BEGIN:STANDARD
TZOFFSETFROM:-0500
TZOFFSETTO:-0600
TZNAME:CST
DTSTART:20241103T070000
END:STANDARD
BEGIN:DAYLIGHT
TZOFFSETFROM:-0600
TZOFFSETTO:-0500
TZNAME:CDT
DTSTART:20250309T080000
END:DAYLIGHT
BEGIN:STANDARD
TZOFFSETFROM:-0500
TZOFFSETTO:-0600
TZNAME:CST
DTSTART:20251102T070000
END:STANDARD
BEGIN:DAYLIGHT
TZOFFSETFROM:-0600
TZOFFSETTO:-0500
TZNAME:CDT
DTSTART:20260308T080000
END:DAYLIGHT
BEGIN:STANDARD
TZOFFSETFROM:-0500
TZOFFSETTO:-0600
TZNAME:CST
DTSTART:20261101T070000
END:STANDARD
END:VTIMEZONE
BEGIN:VEVENT
DTSTART;TZID=America/Chicago:20250925T130000
DTEND;TZID=America/Chicago:20250925T140000
DTSTAMP:20260421T203334
CREATED:20250912T182138Z
LAST-MODIFIED:20250912T182138Z
UID:13968-1758805200-1758808800@postpressmag.com
SUMMARY:SAPPI PRESENTS: 11 Ways to Get More From Your Marketing Today
DESCRIPTION:Webinar: Sappi Presents: 11 Ways to Get More from Your Marketing Today\nDate: Thursday\, September 25\, 2025\nTime: 1:00 PM (GMT-04:00) Eastern Time – New York\nDuration: 60 minutes
URL:https://postpressmag.com/event/sappi-presents-11-ways-to-get-more-from-your-marketing-today/
CATEGORIES:Webinar
ATTACH;FMTTYPE=image/webp:https://postpressmag.com/wp-content/uploads/sappi_logo.webp
END:VEVENT
END:VCALENDAR