BEGIN:VCALENDAR
VERSION:2.0
PRODID:-//PostPress - ECPv6.15.17.1//NONSGML v1.0//EN
CALSCALE:GREGORIAN
METHOD:PUBLISH
X-ORIGINAL-URL:https://postpressmag.com
X-WR-CALDESC:Events for PostPress
REFRESH-INTERVAL;VALUE=DURATION:PT1H
X-Robots-Tag:noindex
X-PUBLISHED-TTL:PT1H
BEGIN:VTIMEZONE
TZID:America/Chicago
BEGIN:DAYLIGHT
TZOFFSETFROM:-0600
TZOFFSETTO:-0500
TZNAME:CDT
DTSTART:20180311T080000
END:DAYLIGHT
BEGIN:STANDARD
TZOFFSETFROM:-0500
TZOFFSETTO:-0600
TZNAME:CST
DTSTART:20181104T070000
END:STANDARD
BEGIN:DAYLIGHT
TZOFFSETFROM:-0600
TZOFFSETTO:-0500
TZNAME:CDT
DTSTART:20190310T080000
END:DAYLIGHT
BEGIN:STANDARD
TZOFFSETFROM:-0500
TZOFFSETTO:-0600
TZNAME:CST
DTSTART:20191103T070000
END:STANDARD
BEGIN:DAYLIGHT
TZOFFSETFROM:-0600
TZOFFSETTO:-0500
TZNAME:CDT
DTSTART:20200308T080000
END:DAYLIGHT
BEGIN:STANDARD
TZOFFSETFROM:-0500
TZOFFSETTO:-0600
TZNAME:CST
DTSTART:20201101T070000
END:STANDARD
END:VTIMEZONE
BEGIN:VTIMEZONE
TZID:UTC
BEGIN:STANDARD
TZOFFSETFROM:+0000
TZOFFSETTO:+0000
TZNAME:UTC
DTSTART:20180101T000000
END:STANDARD
END:VTIMEZONE
BEGIN:VEVENT
DTSTART;VALUE=DATE:20191023
DTEND;VALUE=DATE:20191026
DTSTAMP:20260421T125414
CREATED:20190606T142139Z
LAST-MODIFIED:20190905T211929Z
UID:1866-1571788800-1572047999@postpressmag.com
SUMMARY:PRINTING United
DESCRIPTION:
URL:https://postpressmag.com/event/printing-united/
LOCATION:Kay Bailey Hutchison Convention Center\, Dallas\, TX
CATEGORIES:Conference
ATTACH;FMTTYPE=image/png:https://postpressmag.com/wp-content/uploads/PP-Featured-Image.png
END:VEVENT
BEGIN:VEVENT
DTSTART;VALUE=DATE:20191003
DTEND;VALUE=DATE:20191006
DTSTAMP:20260421T125414
CREATED:20190410T013552Z
LAST-MODIFIED:20190905T211919Z
UID:1710-1570060800-1570319999@postpressmag.com
SUMMARY:PRINT® 19
DESCRIPTION:
URL:https://postpressmag.com/event/print-19/
LOCATION:McCormick Place North\, Chicago\, IL
CATEGORIES:Conference
ATTACH;FMTTYPE=image/png:https://postpressmag.com/wp-content/uploads/PP-Featured-Image.png
END:VEVENT
BEGIN:VEVENT
DTSTART;VALUE=DATE:20190924
DTEND;VALUE=DATE:20190928
DTSTAMP:20260421T125414
CREATED:20190605T214007Z
LAST-MODIFIED:20190905T211914Z
UID:1848-1569283200-1569628799@postpressmag.com
SUMMARY:Labelexpo Europe 2019
DESCRIPTION:
URL:https://postpressmag.com/event/labelexpo-europe-2019/
CATEGORIES:Conference
ATTACH;FMTTYPE=image/png:https://postpressmag.com/wp-content/uploads/PP-Featured-Image.png
END:VEVENT
BEGIN:VEVENT
DTSTART;VALUE=DATE:20190923
DTEND;VALUE=DATE:20190926
DTSTAMP:20260421T125414
CREATED:20190606T134839Z
LAST-MODIFIED:20190905T211908Z
UID:1863-1569196800-1569455999@postpressmag.com
SUMMARY:PACK EXPO Las Vegas
DESCRIPTION:
URL:https://postpressmag.com/event/pack-expo-las-vegas/
LOCATION:Las Vegas Convention Center\, Las Vegas\, NV
CATEGORIES:Conference
ATTACH;FMTTYPE=image/png:https://postpressmag.com/wp-content/uploads/PP-Featured-Image.png
END:VEVENT
BEGIN:VEVENT
DTSTART;VALUE=DATE:20190910
DTEND;VALUE=DATE:20190912
DTSTAMP:20260421T125414
CREATED:20190627T190112Z
LAST-MODIFIED:20190627T190112Z
UID:2078-1568073600-1568246399@postpressmag.com
SUMMARY:Smart Packaging 2019
DESCRIPTION:
URL:https://postpressmag.com/event/smart-packaging-2019/
LOCATION:Hamburg Marriott Hotel\, Hamburg\, Germany
CATEGORIES:Conference
ATTACH;FMTTYPE=image/png:https://postpressmag.com/wp-content/uploads/PP-Featured-Image.png
END:VEVENT
END:VCALENDAR