BEGIN:VCALENDAR
VERSION:2.0
PRODID:-//PostPress - ECPv6.15.17.1//NONSGML v1.0//EN
CALSCALE:GREGORIAN
METHOD:PUBLISH
X-WR-CALNAME:PostPress
X-ORIGINAL-URL:https://postpressmag.com
X-WR-CALDESC:Events for PostPress
REFRESH-INTERVAL;VALUE=DURATION:PT1H
X-Robots-Tag:noindex
X-PUBLISHED-TTL:PT1H
BEGIN:VTIMEZONE
TZID:America/Chicago
BEGIN:DAYLIGHT
TZOFFSETFROM:-0600
TZOFFSETTO:-0500
TZNAME:CDT
DTSTART:20180311T080000
END:DAYLIGHT
BEGIN:STANDARD
TZOFFSETFROM:-0500
TZOFFSETTO:-0600
TZNAME:CST
DTSTART:20181104T070000
END:STANDARD
BEGIN:DAYLIGHT
TZOFFSETFROM:-0600
TZOFFSETTO:-0500
TZNAME:CDT
DTSTART:20190310T080000
END:DAYLIGHT
BEGIN:STANDARD
TZOFFSETFROM:-0500
TZOFFSETTO:-0600
TZNAME:CST
DTSTART:20191103T070000
END:STANDARD
BEGIN:DAYLIGHT
TZOFFSETFROM:-0600
TZOFFSETTO:-0500
TZNAME:CDT
DTSTART:20200308T080000
END:DAYLIGHT
BEGIN:STANDARD
TZOFFSETFROM:-0500
TZOFFSETTO:-0600
TZNAME:CST
DTSTART:20201101T070000
END:STANDARD
BEGIN:DAYLIGHT
TZOFFSETFROM:-0600
TZOFFSETTO:-0500
TZNAME:CDT
DTSTART:20210314T080000
END:DAYLIGHT
BEGIN:STANDARD
TZOFFSETFROM:-0500
TZOFFSETTO:-0600
TZNAME:CST
DTSTART:20211107T070000
END:STANDARD
END:VTIMEZONE
BEGIN:VEVENT
DTSTART;VALUE=DATE:20200804
DTEND;VALUE=DATE:20200807
DTSTAMP:20260421T183234
CREATED:20200127T201517Z
LAST-MODIFIED:20200127T201517Z
UID:4521-1596499200-1596758399@postpressmag.com
SUMMARY:MBO Fold School: Advanced
DESCRIPTION:MBO understands that machine downtime is detrimental to your business and the key to maintaining production efficiency is a well-trained operator. MBO Fold School courses are designed to increase your operator’s understanding of paper behavior\, folding principles\, issue troubleshooting\, and problem resolution. The skills they will learn at our fold school will immediately make a positive impact on your production capabilities.
URL:https://postpressmag.com/event/mbo-fold-school-advanced-august/
LOCATION:MBO America\, 4 E Stow Rd\, STE 12\, Marlton\, NJ\, 08053
CATEGORIES:Training
ATTACH;FMTTYPE=image/png:https://postpressmag.com/wp-content/uploads/PP-Featured-Image.png
END:VEVENT
BEGIN:VEVENT
DTSTART;VALUE=DATE:20200707
DTEND;VALUE=DATE:20200710
DTSTAMP:20260421T183234
CREATED:20200127T201335Z
LAST-MODIFIED:20200127T201335Z
UID:4519-1594080000-1594339199@postpressmag.com
SUMMARY:MBO Fold School: Basic
DESCRIPTION:MBO understands that machine downtime is detrimental to your business and the key to maintaining production efficiency is a well-trained operator. MBO Fold School courses are designed to increase your operator’s understanding of paper behavior\, folding principles\, issue troubleshooting\, and problem resolution. The skills they will learn at our fold school will immediately make a positive impact on your production capabilities.
URL:https://postpressmag.com/event/mbo-fold-school-basic-july/
LOCATION:MBO America\, 4 E Stow Rd\, STE 12\, Marlton\, NJ\, 08053
CATEGORIES:Training
ATTACH;FMTTYPE=image/png:https://postpressmag.com/wp-content/uploads/PP-Featured-Image.png
END:VEVENT
BEGIN:VEVENT
DTSTART;VALUE=DATE:20200602
DTEND;VALUE=DATE:20200605
DTSTAMP:20260421T183234
CREATED:20200127T201019Z
LAST-MODIFIED:20200127T201019Z
UID:4515-1591056000-1591315199@postpressmag.com
SUMMARY:MBO Fold School: Advanced
DESCRIPTION:MBO understands that machine downtime is detrimental to your business and the key to maintaining production efficiency is a well-trained operator. MBO Fold School courses are designed to increase your operator’s understanding of paper behavior\, folding principles\, issue troubleshooting\, and problem resolution. The skills they will learn at our fold school will immediately make a positive impact on your production capabilities.
URL:https://postpressmag.com/event/mbo-fold-school-advanced-june/
LOCATION:MBO America\, 4 E Stow Rd\, STE 12\, Marlton\, NJ\, 08053
CATEGORIES:Training
ATTACH;FMTTYPE=image/png:https://postpressmag.com/wp-content/uploads/PP-Featured-Image.png
END:VEVENT
BEGIN:VEVENT
DTSTART;VALUE=DATE:20200505
DTEND;VALUE=DATE:20200508
DTSTAMP:20260421T183234
CREATED:20200127T195713Z
LAST-MODIFIED:20200127T201204Z
UID:4513-1588636800-1588895999@postpressmag.com
SUMMARY:MBO Fold School: Basic
DESCRIPTION:MBO understands that machine downtime is detrimental to your business and the key to maintaining production efficiency is a well-trained operator. MBO Fold School courses are designed to increase your operator’s understanding of paper behavior\, folding principles\, issue troubleshooting\, and problem resolution. The skills they will learn at our fold school will immediately make a positive impact on your production capabilities.
URL:https://postpressmag.com/event/mbo-fold-school-basic-may/
LOCATION:MBO America\, 4 E Stow Rd\, STE 12\, Marlton\, NJ\, 08053
CATEGORIES:Training
ATTACH;FMTTYPE=image/png:https://postpressmag.com/wp-content/uploads/PP-Featured-Image.png
END:VEVENT
BEGIN:VEVENT
DTSTART;VALUE=DATE:20200303
DTEND;VALUE=DATE:20200306
DTSTAMP:20260421T183234
CREATED:20200127T195528Z
LAST-MODIFIED:20200127T201143Z
UID:4511-1583193600-1583452799@postpressmag.com
SUMMARY:MBO Fold School: Advanced
DESCRIPTION:MBO understands that machine downtime is detrimental to your business and the key to maintaining production efficiency is a well-trained operator. MBO Fold School courses are designed to increase your operator’s understanding of paper behavior\, folding principles\, issue troubleshooting\, and problem resolution. The skills they will learn at our fold school will immediately make a positive impact on your production capabilities.
URL:https://postpressmag.com/event/mbo-fold-school-advanced-march/
LOCATION:MBO America\, 4 E Stow Rd\, STE 12\, Marlton\, NJ\, 08053
CATEGORIES:Training
ATTACH;FMTTYPE=image/png:https://postpressmag.com/wp-content/uploads/PP-Featured-Image.png
END:VEVENT
BEGIN:VEVENT
DTSTART;VALUE=DATE:20200204
DTEND;VALUE=DATE:20200207
DTSTAMP:20260421T183234
CREATED:20200127T195357Z
LAST-MODIFIED:20200127T201119Z
UID:4507-1580774400-1581033599@postpressmag.com
SUMMARY:MBO Fold School: Basic
DESCRIPTION:MBO understands that machine downtime is detrimental to your business and the key to maintaining production efficiency is a well-trained operator. MBO Fold School courses are designed to increase your operator’s understanding of paper behavior\, folding principles\, issue troubleshooting\, and problem resolution. The skills they will learn at our fold school will immediately make a positive impact on your production capabilities.
URL:https://postpressmag.com/event/mbo-fold-school-basic-february/
LOCATION:MBO America\, 4 E Stow Rd\, STE 12\, Marlton\, NJ\, 08053
CATEGORIES:Training
ATTACH;FMTTYPE=image/png:https://postpressmag.com/wp-content/uploads/PP-Featured-Image.png
END:VEVENT
BEGIN:VEVENT
DTSTART;VALUE=DATE:20190910
DTEND;VALUE=DATE:20190913
DTSTAMP:20260421T183234
CREATED:20190627T190957Z
LAST-MODIFIED:20190828T182423Z
UID:2087-1568073600-1568332799@postpressmag.com
SUMMARY:MBO Fold School
DESCRIPTION:MBO understands that machine downtime is detrimental to your business and the key to maintaining production efficiency is a well-trained operator. MBO Fold School courses are designed to increase your operator’s understanding of paper behavior\, folding principles\, issue troubleshooting\, and problem resolution. The skills they will learn at our fold school will immediately make a positive impact on your production capabilities. \nSchedule\nBasic: July 9 – 11\nAdvanced: August 6 – 8\nBasic: September 10 – 12 \nCost\nBasic: \n\n$350.00 per person for MBO customers\n$500.00 per person for non-MBO customers\n\nAdvanced: \n\n$400.00 per person for MBO customers\n$550.00 per person for non-MBO customers
URL:https://postpressmag.com/event/mbo-fold-school/
LOCATION:NJ
CATEGORIES:Training
ATTACH;FMTTYPE=image/png:https://postpressmag.com/wp-content/uploads/PP-Featured-Image.png
END:VEVENT
END:VCALENDAR