BEGIN:VCALENDAR
VERSION:2.0
PRODID:-//PostPress - ECPv6.15.17.1//NONSGML v1.0//EN
CALSCALE:GREGORIAN
METHOD:PUBLISH
X-WR-CALNAME:PostPress
X-ORIGINAL-URL:https://postpressmag.com
X-WR-CALDESC:Events for PostPress
REFRESH-INTERVAL;VALUE=DURATION:PT1H
X-Robots-Tag:noindex
X-PUBLISHED-TTL:PT1H
BEGIN:VTIMEZONE
TZID:America/Chicago
BEGIN:DAYLIGHT
TZOFFSETFROM:-0600
TZOFFSETTO:-0500
TZNAME:CDT
DTSTART:20230312T080000
END:DAYLIGHT
BEGIN:STANDARD
TZOFFSETFROM:-0500
TZOFFSETTO:-0600
TZNAME:CST
DTSTART:20231105T070000
END:STANDARD
BEGIN:DAYLIGHT
TZOFFSETFROM:-0600
TZOFFSETTO:-0500
TZNAME:CDT
DTSTART:20240310T080000
END:DAYLIGHT
BEGIN:STANDARD
TZOFFSETFROM:-0500
TZOFFSETTO:-0600
TZNAME:CST
DTSTART:20241103T070000
END:STANDARD
BEGIN:DAYLIGHT
TZOFFSETFROM:-0600
TZOFFSETTO:-0500
TZNAME:CDT
DTSTART:20250309T080000
END:DAYLIGHT
BEGIN:STANDARD
TZOFFSETFROM:-0500
TZOFFSETTO:-0600
TZNAME:CST
DTSTART:20251102T070000
END:STANDARD
BEGIN:DAYLIGHT
TZOFFSETFROM:-0600
TZOFFSETTO:-0500
TZNAME:CDT
DTSTART:20260308T080000
END:DAYLIGHT
BEGIN:STANDARD
TZOFFSETFROM:-0500
TZOFFSETTO:-0600
TZNAME:CST
DTSTART:20261101T070000
END:STANDARD
BEGIN:DAYLIGHT
TZOFFSETFROM:-0600
TZOFFSETTO:-0500
TZNAME:CDT
DTSTART:20270314T080000
END:DAYLIGHT
BEGIN:STANDARD
TZOFFSETFROM:-0500
TZOFFSETTO:-0600
TZNAME:CST
DTSTART:20271107T070000
END:STANDARD
END:VTIMEZONE
BEGIN:VEVENT
DTSTART;VALUE=DATE:20260224
DTEND;VALUE=DATE:20260225
DTSTAMP:20260421T142720
CREATED:20251230T204358Z
LAST-MODIFIED:20251230T204358Z
UID:14526-1771891200-1771977599@postpressmag.com
SUMMARY:5P Showcase Event
DESCRIPTION:This popular event features the best in Packaging\, Paper\, Printing\, Plastics\, Pulp\, and the Food Industry. \nFeatured Speakers include: \n\nLaura Bix\, PhD\, the Interim Director for the School of Packaging at Michigan State University. At MSU\, she leads the Packaging HUB – Healthcare\, Universal Design\, and Biomechanics.\nKim Barham Business Development Executive at Sun Chemical. She has 36 years in the printing industry with a passion for Graphic Communication specializing in sheetfed printing.\nSteve Howell Advanced Applications Specialist at Sun Chemical. He spent 31 years in operation management in the folding carton & the converters industries with high-speed OEM press installations.\nRick Stokes Vice President Market Management at Sun Chemical. He has 34 years of experience in packaging & combining technical knowledge with business strategy. He leads a team focused on industry trends and developing strategies to meet evolving packaging needs for consumers\, brand owners\, and regulators.
URL:https://postpressmag.com/event/5p-showcase-event/
LOCATION:Oneida Center and Hotel\, 2040 Airport Dr\, Green Bay\, WI\, 54313\, United States
CATEGORIES:Conference,Live Event
ATTACH;FMTTYPE=image/jpeg:https://postpressmag.com/wp-content/uploads/5p.jpg
END:VEVENT
BEGIN:VEVENT
DTSTART;VALUE=DATE:20260126
DTEND;VALUE=DATE:20260128
DTSTAMP:20260421T142720
CREATED:20251202T212921Z
LAST-MODIFIED:20251202T212921Z
UID:14440-1769385600-1769558399@postpressmag.com
SUMMARY:AmericaPack Summit 2026
DESCRIPTION:Event Overview:\nThe AmericaPack Summit 2026 unites senior packaging\, design\, sustainability and operations leaders from the FMCG sector for two days of focused discussions and strategic collaboration. The summit is invitation based and designed for executives seeking practical insight and connections that support their packaging priorities for the year ahead.
URL:https://postpressmag.com/event/americapack-summit-2026/
CATEGORIES:Conference
ATTACH;FMTTYPE=image/png:https://postpressmag.com/wp-content/uploads/PP-Featured-Image.png
END:VEVENT
BEGIN:VEVENT
DTSTART;VALUE=DATE:20251027
DTEND;VALUE=DATE:20251029
DTSTAMP:20260421T142720
CREATED:20250714T201934Z
LAST-MODIFIED:20250714T202539Z
UID:13749-1761523200-1761695999@postpressmag.com
SUMMARY:AmericaPack Summit 2025
DESCRIPTION:AmericaPack Summit 2025\nOctober 27–28\, 2025\, Encore Boston Harbor\, in Boston\, Massachusetts \nRequest an invitation: https://tinyurl.com/ycyj369r\nFor more information\, contact Kyriakos Xenophontos: kyriakosx@marcusevanscy.com. \nwww.oct25.americapack.marcusevans-summits.com
URL:https://postpressmag.com/event/americapack-summit-2025/
CATEGORIES:Summit
ATTACH;FMTTYPE=image/webp:https://postpressmag.com/wp-content/uploads/AmericaPack.webp
END:VEVENT
BEGIN:VEVENT
DTSTART;VALUE=DATE:20251022
DTEND;VALUE=DATE:20251025
DTSTAMP:20260421T142720
CREATED:20250506T191821Z
LAST-MODIFIED:20250506T191821Z
UID:13354-1761091200-1761350399@postpressmag.com
SUMMARY:PRINTING United Expo
DESCRIPTION:PRINTING United Expo\nOctober 22-24\, 2025\nOrange County Convention Center\, Orlando\, Florida\nwww.printingunited.com
URL:https://postpressmag.com/event/printing-united-expo-3/
CATEGORIES:Expo
ATTACH;FMTTYPE=image/png:https://postpressmag.com/wp-content/uploads/PP-Featured-Image.png
END:VEVENT
BEGIN:VEVENT
DTSTART;VALUE=DATE:20250929
DTEND;VALUE=DATE:20251002
DTSTAMP:20260421T142720
CREATED:20250506T191050Z
LAST-MODIFIED:20250506T192053Z
UID:13351-1759104000-1759363199@postpressmag.com
SUMMARY:PACK EXPO 2025
DESCRIPTION:PACK EXPO 2025\nSeptember 29 – October 1\, 2025\nLas Vegas Convention Center\, Las Vegas\, Nevada\nwww.packexpolasvegas.com
URL:https://postpressmag.com/event/pack-expo-2025/
CATEGORIES:Expo
ATTACH;FMTTYPE=image/png:https://postpressmag.com/wp-content/uploads/PP-Featured-Image.png
END:VEVENT
BEGIN:VEVENT
DTSTART;TZID=America/Chicago:20250925T130000
DTEND;TZID=America/Chicago:20250925T140000
DTSTAMP:20260421T142720
CREATED:20250912T182138Z
LAST-MODIFIED:20250912T182138Z
UID:13968-1758805200-1758808800@postpressmag.com
SUMMARY:SAPPI PRESENTS: 11 Ways to Get More From Your Marketing Today
DESCRIPTION:Webinar: Sappi Presents: 11 Ways to Get More from Your Marketing Today\nDate: Thursday\, September 25\, 2025\nTime: 1:00 PM (GMT-04:00) Eastern Time – New York\nDuration: 60 minutes
URL:https://postpressmag.com/event/sappi-presents-11-ways-to-get-more-from-your-marketing-today/
CATEGORIES:Webinar
ATTACH;FMTTYPE=image/webp:https://postpressmag.com/wp-content/uploads/sappi_logo.webp
END:VEVENT
BEGIN:VEVENT
DTSTART;VALUE=DATE:20250916
DTEND;VALUE=DATE:20250920
DTSTAMP:20260421T142720
CREATED:20250506T185842Z
LAST-MODIFIED:20250506T190055Z
UID:13348-1757980800-1758326399@postpressmag.com
SUMMARY:Labelexpo Europe
DESCRIPTION:Labelexpo Europe\nSeptember 16-19\, 2025\nFira Gran Via\, Barcelona\, Spain\nwww.labelexpo-europe.com
URL:https://postpressmag.com/event/labelexpo-europe/
CATEGORIES:Expo
ATTACH;FMTTYPE=image/webp:https://postpressmag.com/wp-content/uploads/lex-europe-2025-1.webp
END:VEVENT
BEGIN:VEVENT
DTSTART;VALUE=DATE:20250818
DTEND;VALUE=DATE:20250822
DTSTAMP:20260421T142720
CREATED:20250627T192500Z
LAST-MODIFIED:20250627T192913Z
UID:13683-1755475200-1755820799@postpressmag.com
SUMMARY:Absolute Printing Equipment Service 2025 Foil Stamping Training Session
DESCRIPTION:Absolute Printing Equipment has announced the fall session – 2025 Foil Stamping Training session\, led by James Wright\, a seasoned expert with over 30 years of industry experience. \nKluge School\nAugust 18th – 21st\, 2025\n8:00 AM – 4:30 PM\, with a 30-minute lunch provided by Absolute Printing Equipment \nThroughout the training\, you will learn how to foil\, emboss\, and diecut on a Kluge 14×22. \nWe will conduct job runs for letterheads\, envelopes\, and pocket folders. Additionally\, you will get to see the Kama 76 with foil\, Kama FlexFold 52\, and ProFold 74 in action. \nUniversal Engraving\, Inc. is providing all the foil stamping and embossing dies AND Infinity® Foils\, Inc. is supporting the hot stamping foils. \nThe cost of the training is $750. However\, company owners are encouraged to observe at no additional charge. \nSpace is limited to 10 trainees\, so reserve your spot today! \nIf payment is not received by August 1st\, 2025\, your spot will be forfeited and given to the next trainee on the waiting list. \nYou will receive confirmation for your reservation via email after this form is submitted. If all the spots have been filled\, you will be put on\nthe waiting list. \nPlease note: Only 1 trainee per company is permitted. \nFor any questions regarding training\, please contact James Wright at (678) 860-4828. \nFor any questions regarding logistics\, please contact Casey Marion at (317) 862-9096. For more information about Absolute Printing Equipment Service Inc.\, visit www.absoluteprintingequipment.com.
URL:https://postpressmag.com/event/absolute-printing-equipment-service-2025-foil-stamping-training-session/
CATEGORIES:Training
ATTACH;FMTTYPE=image/webp:https://postpressmag.com/wp-content/uploads/absolute-printing-logo-wider-002.webp
END:VEVENT
BEGIN:VEVENT
DTSTART;VALUE=DATE:20250616
DTEND;VALUE=DATE:20250620
DTSTAMP:20260421T142720
CREATED:20250626T153954Z
LAST-MODIFIED:20250626T154500Z
UID:13669-1750032000-1750377599@postpressmag.com
SUMMARY:Labelexpo Europe 2025
DESCRIPTION:Labelexpo Europe 2025\nSeptember 16-19\, 2025\nFira Gran Via\, Barcelona\, Spain\nwww.labelexpo-europe.com \n 
URL:https://postpressmag.com/event/labelexpo-europe-2025/
CATEGORIES:Expo
ATTACH;FMTTYPE=image/webp:https://postpressmag.com/wp-content/uploads/Labelexpo-Europe-2025.webp
END:VEVENT
BEGIN:VEVENT
DTSTART;VALUE=DATE:20250610
DTEND;VALUE=DATE:20250613
DTSTAMP:20260421T142720
CREATED:20241210T205723Z
LAST-MODIFIED:20241210T205949Z
UID:11212-1749513600-1749772799@postpressmag.com
SUMMARY:Amplify PRINT 2025
DESCRIPTION:June 10-12\, 2025\nDonald E. Stephens Convention Center\nRosemont\, IL\nhttps://www.amplifyprint.org/
URL:https://postpressmag.com/event/amplify-print/
CATEGORIES:Conference
ATTACH;FMTTYPE=image/webp:https://postpressmag.com/wp-content/uploads/Amplify-1-696x207-1.webp
END:VEVENT
BEGIN:VEVENT
DTSTART;VALUE=DATE:20250603
DTEND;VALUE=DATE:20250606
DTSTAMP:20260421T142720
CREATED:20250408T190738Z
LAST-MODIFIED:20250408T190831Z
UID:13114-1748908800-1749167999@postpressmag.com
SUMMARY:UV Days 2025
DESCRIPTION:UV Days 2025\, organized by IST METZ\, will offer a unique opportunity for printing industry professionals to find out about the latest trends and technologies from June 3-5\, 2025. Under the motto ‘Mission to Zero’\, IST METZ will present ground-breaking developments in digitalization\, sustainability and innovative curing solutions that will revolutionize the industry. \n\n\n\nFrom June 3-5\, 2025\, IST METZ will be hosting UV Days 2025\, the world’s largest industry event for UV and LED UV technology. Trade visitors will have the opportunity to learn about the latest developments\, deepen their expert knowledge and make valuable contacts. \n\n\n\nHighlights of UV Days 2025 • Specialist presentations on current industry topics: Renowned experts present exciting insights into key future topics: o Digitalization in the printing industry: How digital transformation is optimizing processes and enabling new business models. o Sustainability: Innovative strategies and technologies to reduce the ecological footprint. o New curing methods: Innovative processes that take the efficiency and quality of UV curing to a new level. \n\n\n\n\nProduct premieres: A particular highlight of the event will be the presentation of the latest generation of LED UV curing systems. These innovative systems impress with higher performance\, significantly increased energy efficiency and even more flexibility in application.\n\n\n\nLive demonstrations of digital printing applications will take place in cooperation with SwissQprint. Participants will experience first-hand how innovative printing technologies are revolutionizing and optimizing the production process.\n\n\n\nWorkshops on FREEcure and SMARTcure technologies offer participants the opportunity to familiarize themselves with two revolutionary approaches for efficient and sustainable curing in the printing process.\n\n\n\nExclusive company and manufacturing tours will provide an in-depth look at IST METZ’s innovative production facilities and the manufacturing processes and technologies that make the company’s leading UV solutions possible.\n\n\n\nNetworking: With more than 40 exhibitors\, the event offers an ideal platform for exchanging experiences and making new contacts. UV Days is the ideal meeting place for professionals worldwide to learn from the best in the industry.\n\n\n\nA convivial end to the day in the Swabian wine village: round off the day with regional specialties and fine wines in a relaxed atmosphere. Take the opportunity to socialize and relax after a successful day at the exhibition.\n\n\n\n\nParticipation in UV Days 2025 is free of charge\, but prior registration is required. For more information and to register\, please visit the official IST METZ website (www.uvdays.com). \n\n\n\nAbout IST METZ IST METZ is a leading supplier of UV and LED UV technologies for the printing industry. With over 45 years of experience\, the company develops innovative curing systems that meet the needs of a changing industry.
URL:https://postpressmag.com/event/uv-days-2025/
CATEGORIES:Tradeshow
ATTACH;FMTTYPE=image/webp:https://postpressmag.com/wp-content/uploads/Mission-to-Zero.webp
END:VEVENT
BEGIN:VEVENT
DTSTART;TZID=America/Chicago:20250521T100000
DTEND;TZID=America/Chicago:20250522T170000
DTSTAMP:20260421T142720
CREATED:20250408T170708Z
LAST-MODIFIED:20250408T170852Z
UID:13108-1747821600-1747933200@postpressmag.com
SUMMARY:Standard Finishing 360
DESCRIPTION:Standard Finishing 360\nA comprehensive lineup of automated finishing and paper handling solutions from Horizon and Hunkeler.\nOn 5/21/25 and 5/22/25 at 10 a.m. – 5 p.m. at Standard’s National Demonstration and Training Center in Andover\, MA\nwww.sdmc.com/finish360/
URL:https://postpressmag.com/event/standard-finishing-360/
CATEGORIES:Training
ATTACH;FMTTYPE=image/webp:https://postpressmag.com/wp-content/uploads/Finishing360.webp
END:VEVENT
BEGIN:VEVENT
DTSTART;VALUE=DATE:20250518
DTEND;VALUE=DATE:20250522
DTSTAMP:20260421T142721
CREATED:20241212T170824Z
LAST-MODIFIED:20241212T170824Z
UID:11290-1747526400-1747871999@postpressmag.com
SUMMARY:RadTech UV+EB Technology Expo & Conference
DESCRIPTION:RadTech UV+EB Technology Expo & Conference\nMay 18-21\, 2025\nDetroit Marriott at the Renaissance Center\nDetroit\, Michigan
URL:https://postpressmag.com/event/radtech-uveb-technology-expo-conference/
CATEGORIES:Expo
ATTACH;FMTTYPE=image/webp:https://postpressmag.com/wp-content/uploads/UVEB.webp
END:VEVENT
BEGIN:VEVENT
DTSTART;VALUE=DATE:20250514
DTEND;VALUE=DATE:20250516
DTSTAMP:20260421T142721
CREATED:20241212T171905Z
LAST-MODIFIED:20241212T171905Z
UID:11296-1747180800-1747353599@postpressmag.com
SUMMARY:ARC Summit: Flexible Packaging
DESCRIPTION:ARC Summit: Flexible Packaging\nMay 14-15\nMxD (Manufacturing x Digital)\nChicago\, Illinois
URL:https://postpressmag.com/event/arc-summit-flexible-packaging/
CATEGORIES:Summit
ATTACH;FMTTYPE=image/webp:https://postpressmag.com/wp-content/uploads/ARC-Summit-1.webp
END:VEVENT
BEGIN:VEVENT
DTSTART;VALUE=DATE:20250507
DTEND;VALUE=DATE:20250509
DTSTAMP:20260421T142721
CREATED:20250127T215214Z
LAST-MODIFIED:20250127T215214Z
UID:11473-1746576000-1746748799@postpressmag.com
SUMMARY:LUXE PACK New York
DESCRIPTION:LUXE PACK New York\nMay 7-8\, 2025\, Javits Center\, New York\, New York\,\nwww.luxepacknewyork.com
URL:https://postpressmag.com/event/luxe-pack-new-york-2/
CATEGORIES:Tradeshow
ATTACH;FMTTYPE=image/webp:https://postpressmag.com/wp-content/uploads/lpny-2025-banniere-600x200-bigba.webp
END:VEVENT
BEGIN:VEVENT
DTSTART;TZID=America/Chicago:20250415T080000
DTEND;TZID=America/Chicago:20250417T163000
DTSTAMP:20260421T142721
CREATED:20250313T160552Z
LAST-MODIFIED:20250313T161300Z
UID:11733-1744704000-1744907400@postpressmag.com
SUMMARY:Absolute Printing Equipment 2025 Foil Stamping Training
DESCRIPTION:Absolute Printing Equipment 2025 Foil Stamping Training\nApril 15-17\, 2025\nIndianapolis\, Indiana\nRegister Here
URL:https://postpressmag.com/event/absolute-printing-equipment-2025-foil-stamping-training/
CATEGORIES:Training
ATTACH;FMTTYPE=image/webp:https://postpressmag.com/wp-content/uploads/absolute.webp
END:VEVENT
BEGIN:VEVENT
DTSTART;VALUE=DATE:20250401
DTEND;VALUE=DATE:20250404
DTSTAMP:20260421T142721
CREATED:20250213T155723Z
LAST-MODIFIED:20250213T160144Z
UID:11568-1743465600-1743724799@postpressmag.com
SUMMARY:Labelexpo Mexico 2025
DESCRIPTION:Labelexpo Mexico 2025\nApril 1-3\, 2025\nExpo Guadalajara\, Guadalajara\nwww.labelexpo-mexico.com
URL:https://postpressmag.com/event/labelexpo-mexico-2025/
CATEGORIES:Expo
ATTACH;FMTTYPE=image/webp:https://postpressmag.com/wp-content/uploads/logo-3.webp
END:VEVENT
BEGIN:VEVENT
DTSTART;VALUE=DATE:20250224
DTEND;VALUE=DATE:20250228
DTSTAMP:20260421T142721
CREATED:20250109T223855Z
LAST-MODIFIED:20250109T224732Z
UID:11378-1740355200-1740700799@postpressmag.com
SUMMARY:Hunkeler Innovationdays 2025
DESCRIPTION:Hunkeler Innovationdays 2025 \nLucerne\, Switzerland \nThe Hunkeler Innovationdays are an important meeting place for the digital printing industry and are gaining in international popularity. Exhibitors\, visitors and the trade press all agree on this. The staging of the next edition is already set: Hunkeler Innovationdays 2025 will again be held at the Lucerne Exhibition Center from February 24 to 27\, 2025. \nVisit honle group at the Hunkeler Innovationdays\, Hall 2\, Booth 611
URL:https://postpressmag.com/event/hunkeler-innovationdays-2025/
CATEGORIES:Conference
ATTACH;FMTTYPE=image/webp:https://postpressmag.com/wp-content/uploads/HID-Logo-1-768x997-1.webp
END:VEVENT
BEGIN:VEVENT
DTSTART;VALUE=DATE:20250120
DTEND;VALUE=DATE:20250125
DTSTAMP:20260421T142721
CREATED:20241212T172220Z
LAST-MODIFIED:20241212T172220Z
UID:11299-1737331200-1737763199@postpressmag.com
SUMMARY:BOBST Basic to Intermediate Folder-Gluer Operator Training
DESCRIPTION:Elevate your folder-gluer skills – Register for BOBST training today! \nJanuary 20–24\, 2025\nBOBST West Coast demo center\nSanta Fe Springs\, CA 90670
URL:https://postpressmag.com/event/bobst-basic-to-intermediate-folder-gluer-operator-training/
CATEGORIES:Training
ATTACH;FMTTYPE=image/webp:https://postpressmag.com/wp-content/uploads/Bobst.webp
END:VEVENT
BEGIN:VEVENT
DTSTART;VALUE=DATE:20240930
DTEND;VALUE=DATE:20241003
DTSTAMP:20260421T142721
CREATED:20240812T203957Z
LAST-MODIFIED:20240812T204019Z
UID:10332-1727654400-1727913599@postpressmag.com
SUMMARY:Paperboard Packaging Council\, 2024 Fall Meeting & Leadership Conference
DESCRIPTION:Paperboard Packaging Council\, 2024 Fall Meeting & Leadership Conference\nSeptember 30-October 2\nAtlanta\, Georgia
URL:https://postpressmag.com/event/paperboard-packaging-council-2024-fall-meeting-leadership-conference/
CATEGORIES:Conference
ATTACH;FMTTYPE=image/webp:https://postpressmag.com/wp-content/uploads/FAll-Meeting.webp
END:VEVENT
BEGIN:VEVENT
DTSTART;VALUE=DATE:20240926
DTEND;VALUE=DATE:20240927
DTSTAMP:20260421T142721
CREATED:20240826T193119Z
LAST-MODIFIED:20240826T193937Z
UID:10404-1727308800-1727395199@postpressmag.com
SUMMARY:PaperSpecs LIVE Design Conference
DESCRIPTION:PaperSpecs LIVE Chicago Features ‘How to’ Workshops \nThe Largest Paper and Print Focused Design Conference\nPaperSpecs LIVE provides designers with 1 FULL DAY jam-packed with inspiration\, trends\, valuable insights\, and so many print samples they will need to bring an extra suitcase! \nIn short\, everything a designer needs to create printed pieces that will “wow” their current clients and attract new ones – no matter what the budget. \nPaperSpecs Live Chicago is made possible by the generous support of our partners\, including Sappi North America\, Sustana\, Sylvamo\, Winter & Co.\, swissQprint\, BindTech\, Fujifilm\, Canon Solutions America\, Nobelus\, Nekoosa\, UEI Group – Infinity\, Xerox \, CTI Paper USA\, K Laser Technology\, LPI\, Classic Color\, Case Paper \nAnd supporting sponsors: Taktiful\, FSEA\, Indigo Ink Digital and Prime Time Pins   \n 
URL:https://postpressmag.com/event/paperspecs-live-design-conference/
CATEGORIES:Live Event
ATTACH;FMTTYPE=image/webp:https://postpressmag.com/wp-content/uploads/Paper-Specs-Live-logo-updated.webp
END:VEVENT
BEGIN:VEVENT
DTSTART;VALUE=DATE:20240924
DTEND;VALUE=DATE:20240927
DTSTAMP:20260421T142721
CREATED:20240812T202904Z
LAST-MODIFIED:20240812T202904Z
UID:10328-1727136000-1727395199@postpressmag.com
SUMMARY:Association for Roll to Roll Converters USA
DESCRIPTION:R2R USA Conference\nSeptember 24-26\, 2024\nCharlotte\, North Carolina
URL:https://postpressmag.com/event/association-for-roll-to-roll-converters-usa/
CATEGORIES:Conference
ATTACH;FMTTYPE=image/webp:https://postpressmag.com/wp-content/uploads/R2R.webp
END:VEVENT
BEGIN:VEVENT
DTSTART;VALUE=DATE:20240910
DTEND;VALUE=DATE:20240913
DTSTAMP:20260421T142721
CREATED:20240812T200033Z
LAST-MODIFIED:20240812T200246Z
UID:10323-1725926400-1726185599@postpressmag.com
SUMMARY:Labelexpo Americas 2024
DESCRIPTION:SEPTEMBER 10-12\, 2024\nat the Donald E. Stephens Convention Center\, Chicago\n\nCome see FSEA in Booths: 2041 & 3724
URL:https://postpressmag.com/event/labelexpo-americas-2024/
CATEGORIES:Expo
ATTACH;FMTTYPE=image/png:https://postpressmag.com/wp-content/uploads/Label-Expo-Americas-2024-1.png
END:VEVENT
BEGIN:VEVENT
DTSTART;VALUE=DATE:20240910
DTEND;VALUE=DATE:20240913
DTSTAMP:20260421T142721
CREATED:20240619T145231Z
LAST-MODIFIED:20240619T145937Z
UID:10130-1725926400-1726185599@postpressmag.com
SUMMARY:Printing United Expo
DESCRIPTION:Taking place September 10-12 in vibrant Las Vegas\, this year’s Expo promises to be an unmissable event for industry professionals\, innovators\, and enthusiasts alike. Register online today to attend the Expo and its many educational and co-located events taking place over three action-packed days.
URL:https://postpressmag.com/event/printing-united-expo-2/
CATEGORIES:Expo
ATTACH;FMTTYPE=image/png:https://postpressmag.com/wp-content/uploads/PP-Featured-Image.png
END:VEVENT
BEGIN:VEVENT
DTSTART;VALUE=DATE:20240808
DTEND;VALUE=DATE:20240809
DTSTAMP:20260421T142721
CREATED:20240723T162518Z
LAST-MODIFIED:20240723T162518Z
UID:10245-1723075200-1723161599@postpressmag.com
SUMMARY:Duplo USA Finishing Roadshow in Dallas and Chicago Areas
DESCRIPTION:Duplo USA Corporation\, a provider of innovating print finishing solutions\, is excited to announce their upcoming Finishing Roadshow in Lewisville\, Texas and Des Plaines\, Illinois. The events will feature live equipment demonstrations\, a free lunch n’ learn session with a presentation on Fiery Impose\, and valuable networking opportunities for print service providers. \nAutomation in finishing remains a growing trend as printers seek ways to reduce costs\, improve efficiency\, and meet the ever-changing needs of customers. By incorporating automated finishing solutions into their workflow\, they can significantly increase their output while maintaining high quality standards. The roadshow will showcase the latest automated technologies from Duplo including the DDC-8000 B2 Raised Spot UV Coater\, the DSM-1000 B2 Platen Die Cutter\, the 700i Pro Digital Booklet System\, and much more. \nThe Lewisville event will take place August 8th at the Hilton Garden Inn\, followed by the Des Plaines event on October 30th at the Rivers Casino. Print service providers interested in attending can register online at www.duplousaevents.com. \n 
URL:https://postpressmag.com/event/duplo-usa-finishing-roadshow-in-dallas-and-chicago-areas/
CATEGORIES:Roadshow Event
ATTACH;FMTTYPE=image/webp:https://postpressmag.com/wp-content/uploads/Duplo-Roadshow-2024.webp
END:VEVENT
BEGIN:VEVENT
DTSTART;VALUE=DATE:20240808
DTEND;VALUE=DATE:20240809
DTSTAMP:20260421T142721
CREATED:20240715T180403Z
LAST-MODIFIED:20240715T180531Z
UID:10221-1723075200-1723161599@postpressmag.com
SUMMARY:Duplo USA Announces Finishing Roadshow in Dallas and Chicago Areas
DESCRIPTION:The Lewisville event will take place August 8th at the Hilton Garden Inn\, followed by the Des Plaines event on October 30th at the Rivers Casino. Print service providers interested in attending can register online at www.duplousaevents.com.
URL:https://postpressmag.com/event/duplo-usa-announces-finishing-roadshow-in-dallas-and-chicago-areas/
CATEGORIES:Roadshow Event
ATTACH;FMTTYPE=image/webp:https://postpressmag.com/wp-content/uploads/Duplo-Roadshow-2024.webp
END:VEVENT
BEGIN:VEVENT
DTSTART;TZID=America/Chicago:20240725T080000
DTEND;TZID=America/Chicago:20240725T170000
DTSTAMP:20260421T142721
CREATED:20240725T212703Z
LAST-MODIFIED:20240725T212731Z
UID:10261-1721894400-1721926800@postpressmag.com
SUMMARY:PaperSpecs Live Presents Boundary Pushing Speakers in Chicago on Sept. 26th
DESCRIPTION:PaperSpecs Live Chicago In-Person Event \nOn Sept. 26th\, four of its most exciting luminaries will take attendees “behind the scenes” of some of their greatest creations during PaperSpecs Live Chicago – 1 FULL DAY jam-packed with inspiration\, trends\, valuable insights\, and print samples galore! \nWhere: Venue SIX10\, Chicago   \nWhen: Sept. 26\, 2024 \nWhere to Register: www.PaperSpecsLive.com \n 
URL:https://postpressmag.com/event/paperspecs-live-presents-boundary-pushing-speakers-in-chicago-on-sept-26th/
CATEGORIES:Live Event
ATTACH;FMTTYPE=image/png:https://postpressmag.com/wp-content/uploads/PaperSpecs.png
END:VEVENT
BEGIN:VEVENT
DTSTART;VALUE=DATE:20240626
DTEND;VALUE=DATE:20240628
DTSTAMP:20260421T142721
CREATED:20240503T145558Z
LAST-MODIFIED:20240503T150110Z
UID:9872-1719360000-1719532799@postpressmag.com
SUMMARY:Standard Announces Dates for Finishing 360
DESCRIPTION:Standard Finishing Systems has announced that Finishing 360\, their annual event open to print service providers across the U.S. and Canada\, will be held on June 26th and 27th\, 2024. \nEvery year at Finishing 360\, Standard welcomes visitors to their National Demonstration and Training Center in Andover\, Massachusetts\, where they provide high-level tours of their complete Hunkeler and Horizon finishing line as well as detailed\, hands-on equipment demonstrations.
URL:https://postpressmag.com/event/standard-announces-dates-for-finishing-360/
CATEGORIES:Training
ATTACH;FMTTYPE=image/webp:https://postpressmag.com/wp-content/uploads/Finishing360-2023-wp.webp
END:VEVENT
BEGIN:VEVENT
DTSTART;VALUE=DATE:20240528
DTEND;VALUE=DATE:20240608
DTSTAMP:20260421T142721
CREATED:20201203T165115Z
LAST-MODIFIED:20201203T165115Z
UID:6316-1716854400-1717804799@postpressmag.com
SUMMARY:drupa 2024
DESCRIPTION:
URL:https://postpressmag.com/event/drupa-2024/
CATEGORIES:Conference
ATTACH;FMTTYPE=image/png:https://postpressmag.com/wp-content/uploads/PP-Featured-Image.png
END:VEVENT
BEGIN:VEVENT
DTSTART;VALUE=DATE:20240520
DTEND;VALUE=DATE:20240523
DTSTAMP:20260421T142721
CREATED:20231107T201711Z
LAST-MODIFIED:20231129T164715Z
UID:9407-1716163200-1716422399@postpressmag.com
SUMMARY:2024 RadTech UV&EB Technology & Conference
DESCRIPTION:
URL:https://postpressmag.com/event/2024-radtech-uveb-technology-conference/
LOCATION:Hyatt Regency Orlando\, Orlando\, Florida
ATTACH;FMTTYPE=image/png:https://postpressmag.com/wp-content/uploads/PP-Featured-Image.png
END:VEVENT
END:VCALENDAR