BEGIN:VCALENDAR
VERSION:2.0
PRODID:-//PostPress - ECPv6.15.17.1//NONSGML v1.0//EN
CALSCALE:GREGORIAN
METHOD:PUBLISH
X-WR-CALNAME:PostPress
X-ORIGINAL-URL:https://postpressmag.com
X-WR-CALDESC:Events for PostPress
REFRESH-INTERVAL;VALUE=DURATION:PT1H
X-Robots-Tag:noindex
X-PUBLISHED-TTL:PT1H
BEGIN:VTIMEZONE
TZID:America/Chicago
BEGIN:DAYLIGHT
TZOFFSETFROM:-0600
TZOFFSETTO:-0500
TZNAME:CDT
DTSTART:20250309T080000
END:DAYLIGHT
BEGIN:STANDARD
TZOFFSETFROM:-0500
TZOFFSETTO:-0600
TZNAME:CST
DTSTART:20251102T070000
END:STANDARD
BEGIN:DAYLIGHT
TZOFFSETFROM:-0600
TZOFFSETTO:-0500
TZNAME:CDT
DTSTART:20260308T080000
END:DAYLIGHT
BEGIN:STANDARD
TZOFFSETFROM:-0500
TZOFFSETTO:-0600
TZNAME:CST
DTSTART:20261101T070000
END:STANDARD
BEGIN:DAYLIGHT
TZOFFSETFROM:-0600
TZOFFSETTO:-0500
TZNAME:CDT
DTSTART:20270314T080000
END:DAYLIGHT
BEGIN:STANDARD
TZOFFSETFROM:-0500
TZOFFSETTO:-0600
TZNAME:CST
DTSTART:20271107T070000
END:STANDARD
BEGIN:DAYLIGHT
TZOFFSETFROM:-0600
TZOFFSETTO:-0500
TZNAME:CDT
DTSTART:20280312T080000
END:DAYLIGHT
BEGIN:STANDARD
TZOFFSETFROM:-0500
TZOFFSETTO:-0600
TZNAME:CST
DTSTART:20281105T070000
END:STANDARD
END:VTIMEZONE
BEGIN:VEVENT
DTSTART;VALUE=DATE:20260224
DTEND;VALUE=DATE:20260225
DTSTAMP:20260421T142554
CREATED:20251230T204358Z
LAST-MODIFIED:20251230T204358Z
UID:14526-1771891200-1771977599@postpressmag.com
SUMMARY:5P Showcase Event
DESCRIPTION:This popular event features the best in Packaging\, Paper\, Printing\, Plastics\, Pulp\, and the Food Industry. \nFeatured Speakers include: \n\nLaura Bix\, PhD\, the Interim Director for the School of Packaging at Michigan State University. At MSU\, she leads the Packaging HUB – Healthcare\, Universal Design\, and Biomechanics.\nKim Barham Business Development Executive at Sun Chemical. She has 36 years in the printing industry with a passion for Graphic Communication specializing in sheetfed printing.\nSteve Howell Advanced Applications Specialist at Sun Chemical. He spent 31 years in operation management in the folding carton & the converters industries with high-speed OEM press installations.\nRick Stokes Vice President Market Management at Sun Chemical. He has 34 years of experience in packaging & combining technical knowledge with business strategy. He leads a team focused on industry trends and developing strategies to meet evolving packaging needs for consumers\, brand owners\, and regulators.
URL:https://postpressmag.com/event/5p-showcase-event/
LOCATION:Oneida Center and Hotel\, 2040 Airport Dr\, Green Bay\, WI\, 54313\, United States
CATEGORIES:Conference,Live Event
ATTACH;FMTTYPE=image/jpeg:https://postpressmag.com/wp-content/uploads/5p.jpg
END:VEVENT
BEGIN:VEVENT
DTSTART;VALUE=DATE:20260617
DTEND;VALUE=DATE:20260620
DTSTAMP:20260421T142554
CREATED:20260225T215200Z
LAST-MODIFIED:20260225T222546Z
UID:14802-1781654400-1781913599@postpressmag.com
SUMMARY:Print Embellishment Conference
DESCRIPTION:The Foil & Specialty Effects Association’s Print Embellishment Conference will bring together companies involved with all types of print embellishment processes. The conference will include a Supplier Trade Fair with industry-leading suppliers\, a celebration of the 33rd annual FSEA Gold Leaf Awards\, and a plant tour of finishing/bindery leader BindTech at its Nashville location. https://fsea.com/print-embellishment-conference/ \n 
URL:https://postpressmag.com/event/print-embellishment-conference-2/
LOCATION:Sheraton Music City Nashville\, 777 McGavock Pk\, Nashville\, 37214\, United States
CATEGORIES:Conference,Live Event
ATTACH;FMTTYPE=image/jpeg:https://postpressmag.com/wp-content/uploads/pp-fsea-logo400px-e1743108962337.jpg
END:VEVENT
BEGIN:VEVENT
DTSTART;VALUE=DATE:20260622
DTEND;VALUE=DATE:20260624
DTSTAMP:20260421T142554
CREATED:20260408T213415Z
LAST-MODIFIED:20260408T213415Z
UID:15116-1782086400-1782259199@postpressmag.com
SUMMARY:AmericaPack 2026
DESCRIPTION:The AmericaPack Summit 2026 brings together senior packaging leaders from leading FMCG companies for two days of focused discussion\, peer exchange\, and targeted business meetings. Taking place June 22-23 in Boston\, the Summit is designed for executives navigating the balance between innovation\, sustainability\, and operational efficiency. \n 
URL:https://postpressmag.com/event/americapack-2026/
CATEGORIES:Summit
ATTACH;FMTTYPE=image/png:https://postpressmag.com/wp-content/uploads/PP-Featured-Image.png
END:VEVENT
BEGIN:VEVENT
DTSTART;VALUE=DATE:20260915
DTEND;VALUE=DATE:20260918
DTSTAMP:20260421T142554
CREATED:20260225T221600Z
LAST-MODIFIED:20260225T222458Z
UID:14814-1789430400-1789689599@postpressmag.com
SUMMARY:LOUPE
DESCRIPTION:
URL:https://postpressmag.com/event/loupe/
LOCATION:Donald E. Stevens Conventional Center in Rosemont\, Chicago
CATEGORIES:Expo,Live Event,Tradeshow
ATTACH;FMTTYPE=image/jpeg:https://postpressmag.com/wp-content/uploads/loupe-americas.jpg
END:VEVENT
BEGIN:VEVENT
DTSTART;VALUE=DATE:20260923
DTEND;VALUE=DATE:20260926
DTSTAMP:20260421T142554
CREATED:20260225T222051Z
LAST-MODIFIED:20260225T222406Z
UID:14819-1790121600-1790380799@postpressmag.com
SUMMARY:Printing United
DESCRIPTION:
URL:https://postpressmag.com/event/printing-united-2/
LOCATION:Las Vegas Convention Center\, Las Vegas\, NV
CATEGORIES:Expo,Live Event,Tradeshow
ATTACH;FMTTYPE=image/png:https://postpressmag.com/wp-content/uploads/printing_united_exposition_horiz_rgb_900.png
END:VEVENT
BEGIN:VEVENT
DTSTART;VALUE=DATE:20261018
DTEND;VALUE=DATE:20261022
DTSTAMP:20260421T142554
CREATED:20260225T222303Z
LAST-MODIFIED:20260225T222303Z
UID:14822-1792281600-1792627199@postpressmag.com
SUMMARY:Pack Expo International
DESCRIPTION:
URL:https://postpressmag.com/event/pack-expo-international/
LOCATION:McCormick Place\, Chicago\, IL
CATEGORIES:Expo,Live Event,Tradeshow
ATTACH;FMTTYPE=image/png:https://postpressmag.com/wp-content/uploads/693b05409ac66d441c80ecbd_PEI-logo.png
END:VEVENT
BEGIN:VEVENT
DTSTART;VALUE=DATE:20270509
DTEND;VALUE=DATE:20270518
DTSTAMP:20260421T142554
CREATED:20241212T153939Z
LAST-MODIFIED:20241212T153939Z
UID:11282-1809820800-1810598399@postpressmag.com
SUMMARY:drupa 2028
DESCRIPTION:drupa will be held from May 9 – 17\, 2028\, at the fairgrounds in Düsseldorf\, Germany.\nFor more information\, visit www.drupa.com.
URL:https://postpressmag.com/event/drupa-2028/
CATEGORIES:Conference
ATTACH;FMTTYPE=image/webp:https://postpressmag.com/wp-content/uploads/drupa-2028.webp
END:VEVENT
END:VCALENDAR