BEGIN:VCALENDAR
VERSION:2.0
PRODID:-//PostPress - ECPv6.15.17.1//NONSGML v1.0//EN
CALSCALE:GREGORIAN
METHOD:PUBLISH
X-WR-CALNAME:PostPress
X-ORIGINAL-URL:https://postpressmag.com
X-WR-CALDESC:Events for PostPress
REFRESH-INTERVAL;VALUE=DURATION:PT1H
X-Robots-Tag:noindex
X-PUBLISHED-TTL:PT1H
BEGIN:VTIMEZONE
TZID:America/Chicago
BEGIN:DAYLIGHT
TZOFFSETFROM:-0600
TZOFFSETTO:-0500
TZNAME:CDT
DTSTART:20190310T080000
END:DAYLIGHT
BEGIN:STANDARD
TZOFFSETFROM:-0500
TZOFFSETTO:-0600
TZNAME:CST
DTSTART:20191103T070000
END:STANDARD
BEGIN:DAYLIGHT
TZOFFSETFROM:-0600
TZOFFSETTO:-0500
TZNAME:CDT
DTSTART:20200308T080000
END:DAYLIGHT
BEGIN:STANDARD
TZOFFSETFROM:-0500
TZOFFSETTO:-0600
TZNAME:CST
DTSTART:20201101T070000
END:STANDARD
BEGIN:DAYLIGHT
TZOFFSETFROM:-0600
TZOFFSETTO:-0500
TZNAME:CDT
DTSTART:20210314T080000
END:DAYLIGHT
BEGIN:STANDARD
TZOFFSETFROM:-0500
TZOFFSETTO:-0600
TZNAME:CST
DTSTART:20211107T070000
END:STANDARD
BEGIN:DAYLIGHT
TZOFFSETFROM:-0600
TZOFFSETTO:-0500
TZNAME:CDT
DTSTART:20220313T080000
END:DAYLIGHT
BEGIN:STANDARD
TZOFFSETFROM:-0500
TZOFFSETTO:-0600
TZNAME:CST
DTSTART:20221106T070000
END:STANDARD
BEGIN:DAYLIGHT
TZOFFSETFROM:-0600
TZOFFSETTO:-0500
TZNAME:CDT
DTSTART:20230312T080000
END:DAYLIGHT
BEGIN:STANDARD
TZOFFSETFROM:-0500
TZOFFSETTO:-0600
TZNAME:CST
DTSTART:20231105T070000
END:STANDARD
BEGIN:DAYLIGHT
TZOFFSETFROM:-0600
TZOFFSETTO:-0500
TZNAME:CDT
DTSTART:20240310T080000
END:DAYLIGHT
BEGIN:STANDARD
TZOFFSETFROM:-0500
TZOFFSETTO:-0600
TZNAME:CST
DTSTART:20241103T070000
END:STANDARD
END:VTIMEZONE
BEGIN:VTIMEZONE
TZID:America/New_York
BEGIN:DAYLIGHT
TZOFFSETFROM:-0500
TZOFFSETTO:-0400
TZNAME:EDT
DTSTART:20190310T070000
END:DAYLIGHT
BEGIN:STANDARD
TZOFFSETFROM:-0400
TZOFFSETTO:-0500
TZNAME:EST
DTSTART:20191103T060000
END:STANDARD
BEGIN:DAYLIGHT
TZOFFSETFROM:-0500
TZOFFSETTO:-0400
TZNAME:EDT
DTSTART:20200308T070000
END:DAYLIGHT
BEGIN:STANDARD
TZOFFSETFROM:-0400
TZOFFSETTO:-0500
TZNAME:EST
DTSTART:20201101T060000
END:STANDARD
BEGIN:DAYLIGHT
TZOFFSETFROM:-0500
TZOFFSETTO:-0400
TZNAME:EDT
DTSTART:20210314T070000
END:DAYLIGHT
BEGIN:STANDARD
TZOFFSETFROM:-0400
TZOFFSETTO:-0500
TZNAME:EST
DTSTART:20211107T060000
END:STANDARD
END:VTIMEZONE
BEGIN:VEVENT
DTSTART;VALUE=DATE:20230510
DTEND;VALUE=DATE:20230513
DTSTAMP:20260421T213959
CREATED:20230119T165115Z
LAST-MODIFIED:20230131T153325Z
UID:8719-1683676800-1683935999@postpressmag.com
SUMMARY:Odyssey Expo 2023
DESCRIPTION:Industry leaders in the diecutting\, diemaking\, printing and package design\, foiling\, embossing\, folding carton\, corrugated and specialty markets will be featured at Odyssey Expo 2023\, May 10-12\, at the Wisconsin Center in Milwaukee\, Wisconsin.
URL:https://postpressmag.com/event/odyssey-expo-2023/
LOCATION:Wisconsin Center\, 400 W. Wisconsin Ave.\, Milwaukee\, WI\, 53203\, United States
CATEGORIES:Tradeshow
ATTACH;FMTTYPE=image/png:https://postpressmag.com/wp-content/uploads/PP-Featured-Image.png
END:VEVENT
BEGIN:VEVENT
DTSTART;TZID=America/Chicago:20230509T080000
DTEND;TZID=America/Chicago:20230511T170000
DTSTAMP:20260421T213959
CREATED:20230130T172425Z
LAST-MODIFIED:20230131T153521Z
UID:8731-1683619200-1683824400@postpressmag.com
SUMMARY:MBO Fold School: Advanced Class
DESCRIPTION:MBO Fold School is for MBO customers to help them minimize issues and expediate production with their new equipment. \nMarch 7-9: Basic Class\nMay 9-11: Advanced Class\nJune 6-8: Basic Class\nAugust 8-10: Advanced Class\nCustom courses are scheduled upon request\, three student minimum.
URL:https://postpressmag.com/event/mbo-fold-school-advanced-class/
LOCATION:WI
CATEGORIES:Training
ATTACH;FMTTYPE=image/png:https://postpressmag.com/wp-content/uploads/PP-Featured-Image.png
END:VEVENT
BEGIN:VEVENT
DTSTART;TZID=America/Chicago:20230307T080000
DTEND;TZID=America/Chicago:20230309T170000
DTSTAMP:20260421T213959
CREATED:20230130T172252Z
LAST-MODIFIED:20230131T153552Z
UID:8728-1678176000-1678381200@postpressmag.com
SUMMARY:MBO Fold School: Basic Class
DESCRIPTION:MBO Fold School is for MBO customers to help them minimize issues and expediate production with their new equipment. \nMarch 7-9: Basic Class\nMay 9-11: Advanced Class\nJune 6-8: Basic Class\nAugust 8-10: Advanced Class\nCustom courses are scheduled upon request\, 3 student minimum.
URL:https://postpressmag.com/event/mbo-fold-school-proper-training-proper-productivity-in-2023/
LOCATION:WI
CATEGORIES:Training
ATTACH;FMTTYPE=image/png:https://postpressmag.com/wp-content/uploads/PP-Featured-Image.png
END:VEVENT
BEGIN:VEVENT
DTSTART;VALUE=DATE:20230227
DTEND;VALUE=DATE:20230303
DTSTAMP:20260421T213959
CREATED:20230103T195320Z
LAST-MODIFIED:20230131T153726Z
UID:8670-1677456000-1677801599@postpressmag.com
SUMMARY:Hunkeler Innovationdays 2023
DESCRIPTION:
URL:https://postpressmag.com/event/hunkeler-innovationdays-2023/
LOCATION:Lucerne Exhibition Centre\, Lucerne\, Switzerland
CATEGORIES:Expo
ATTACH;FMTTYPE=image/png:https://postpressmag.com/wp-content/uploads/PP-Featured-Image.png
END:VEVENT
BEGIN:VEVENT
DTSTART;TZID=America/Chicago:20230215T080000
DTEND;TZID=America/Chicago:20230223T170000
DTSTAMP:20260421T213959
CREATED:20230131T154405Z
LAST-MODIFIED:20230131T171659Z
UID:8743-1676448000-1677171600@postpressmag.com
SUMMARY:CARTES Tech Days
DESCRIPTION:The third session of CARTES Tech Days will be dedicated to the presentation of the new digital technology specifically focused on the CARTES invisible laser cut and new digital foil embellishment technology.
URL:https://postpressmag.com/event/cartes-tech-days/
LOCATION:CARTES USA Demo Center\, 89 Highway 35\, Eatontown\, New Jersey\, United States
ATTACH;FMTTYPE=image/png:https://postpressmag.com/wp-content/uploads/PP-Featured-Image.png
END:VEVENT
BEGIN:VEVENT
DTSTART;VALUE=DATE:20221019
DTEND;VALUE=DATE:20221023
DTSTAMP:20260421T213959
CREATED:20210618T194158Z
LAST-MODIFIED:20210618T194158Z
UID:7054-1666137600-1666483199@postpressmag.com
SUMMARY:WORLDWIDE PLASTICS AND RUBBER INDUSTRY FOCUSES ON K 2022
DESCRIPTION:
URL:https://postpressmag.com/event/worldwide-plastics-and-rubber-industry-focuses-on-k-2022/
LOCATION:WI
CATEGORIES:Conference
ATTACH;FMTTYPE=image/png:https://postpressmag.com/wp-content/uploads/PP-Featured-Image.png
END:VEVENT
BEGIN:VEVENT
DTSTART;VALUE=DATE:20220913
DTEND;VALUE=DATE:20220916
DTSTAMP:20260421T213959
CREATED:20210305T145747Z
LAST-MODIFIED:20210305T145747Z
UID:6638-1663027200-1663286399@postpressmag.com
SUMMARY:Labelexpo Americas
DESCRIPTION:
URL:https://postpressmag.com/event/labelexpo-americas/
LOCATION:Donald E. Stevens Conventional Center in Rosemont\, Chicago
CATEGORIES:Conference
ATTACH;FMTTYPE=image/png:https://postpressmag.com/wp-content/uploads/PP-Featured-Image.png
END:VEVENT
BEGIN:VEVENT
DTSTART;TZID=America/Chicago:20220720T100000
DTEND;TZID=America/Chicago:20220720T150000
DTSTAMP:20260421T213959
CREATED:20220613T162004Z
LAST-MODIFIED:20220613T162026Z
UID:8136-1658311200-1658329200@postpressmag.com
SUMMARY:'The Power of Sustainable Print in the Digital World' Sustainability Summit
DESCRIPTION:The Sustainable Green Printing Partnership (SGP)\, the leading authority in sustainable printing certifications\, will hold the 2022 Sustainability Summit on July 20\, 2022\, at Fenway Park\, Boston\, Massachusetts. This year’s event is themed the “The Power of Sustainable Print in the Digital World.” \nThe Sustainability Summit brings together thought leaders and community stakeholders in pursuit of more accountable sustainable print supply chains. This year\, it will feature insightful presentations and roundtable discussions given by industry leaders on the power of sustainable print in a digital world. \nAll SGP Community members\, interested printers and print buyers are welcome to attend. Click for Details and registration.
URL:https://postpressmag.com/event/the-power-of-sustainable-print-in-the-digital-world-sustainability-summit/
LOCATION:Fenway Park\, 4 Jersey Street\, Boston\, MA\, 02215\, United States
CATEGORIES:Summit
ATTACH;FMTTYPE=image/png:https://postpressmag.com/wp-content/uploads/PP-Featured-Image.png
END:VEVENT
BEGIN:VEVENT
DTSTART;TZID=America/Chicago:20220615T170000
DTEND;TZID=America/Chicago:20220615T200000
DTSTAMP:20260421T213959
CREATED:20220228T195400Z
LAST-MODIFIED:20220228T195400Z
UID:7773-1655312400-1655323200@postpressmag.com
SUMMARY:FSEA Gold Leaf Awards
DESCRIPTION:
URL:https://postpressmag.com/event/fsea-gold-leaf-awards/
LOCATION:Minneapolis Convention Center\, 1301 2nd Ave S\, Minneapolis\, MN\, 55404\, United States
ATTACH;FMTTYPE=image/png:https://postpressmag.com/wp-content/uploads/PP-Featured-Image.png
END:VEVENT
BEGIN:VEVENT
DTSTART;TZID=America/Chicago:20220614T080000
DTEND;TZID=America/Chicago:20220616T170000
DTSTAMP:20260421T213959
CREATED:20220228T195016Z
LAST-MODIFIED:20220228T195016Z
UID:7770-1655193600-1655398800@postpressmag.com
SUMMARY:Amplify Print – The Print Finishing & Embellishment Event
DESCRIPTION:
URL:https://postpressmag.com/event/amplify-print-the-print-finishing-embellishment-event/
LOCATION:Minneapolis Convention Center\, 1301 2nd Ave S\, Minneapolis\, MN\, 55404\, United States
ATTACH;FMTTYPE=image/png:https://postpressmag.com/wp-content/uploads/PP-Featured-Image.png
END:VEVENT
BEGIN:VEVENT
DTSTART;VALUE=DATE:20211019
DTEND;VALUE=DATE:20211022
DTSTAMP:20260421T213959
CREATED:20201209T210650Z
LAST-MODIFIED:20201209T210650Z
UID:6404-1634601600-1634860799@postpressmag.com
SUMMARY:ICE USA
DESCRIPTION:
URL:https://postpressmag.com/event/ice-usa/
LOCATION:WI
CATEGORIES:Tradeshow
ATTACH;FMTTYPE=image/png:https://postpressmag.com/wp-content/uploads/PP-Featured-Image.png
END:VEVENT
BEGIN:VEVENT
DTSTART;VALUE=DATE:20210930
DTEND;VALUE=DATE:20211002
DTSTAMP:20260421T213959
CREATED:20210616T134657Z
LAST-MODIFIED:20210616T135107Z
UID:7041-1632960000-1633132799@postpressmag.com
SUMMARY:Label Congress 2021
DESCRIPTION:
URL:https://postpressmag.com/event/label-congress-2021-3/
LOCATION:WI
CATEGORIES:Conference,Expo
ATTACH;FMTTYPE=image/png:https://postpressmag.com/wp-content/uploads/PP-Featured-Image.png
END:VEVENT
BEGIN:VEVENT
DTSTART;VALUE=DATE:20210929
DTEND;VALUE=DATE:20211002
DTSTAMP:20260421T213959
CREATED:20210305T150543Z
LAST-MODIFIED:20210305T150543Z
UID:6641-1632873600-1633132799@postpressmag.com
SUMMARY:Label Congress 2021
DESCRIPTION:
URL:https://postpressmag.com/event/label-congress-2021/
LOCATION:the Donald E. Stevens Convention Center
CATEGORIES:Conference
ATTACH;FMTTYPE=image/png:https://postpressmag.com/wp-content/uploads/PP-Featured-Image.png
END:VEVENT
BEGIN:VEVENT
DTSTART;VALUE=DATE:20210927
DTEND;VALUE=DATE:20210930
DTSTAMP:20260421T213959
CREATED:20201209T210316Z
LAST-MODIFIED:20201209T210316Z
UID:6400-1632700800-1632959999@postpressmag.com
SUMMARY:PACK EXPO Las Vegas
DESCRIPTION:
URL:https://postpressmag.com/event/pack-expo-las-vegas-2/
LOCATION:WI
CATEGORIES:Expo
ATTACH;FMTTYPE=image/png:https://postpressmag.com/wp-content/uploads/PP-Featured-Image.png
END:VEVENT
BEGIN:VEVENT
DTSTART;VALUE=DATE:20210819
DTEND;VALUE=DATE:20210820
DTSTAMP:20260421T213959
CREATED:20210802T204840Z
LAST-MODIFIED:20210802T204926Z
UID:7118-1629331200-1629417599@postpressmag.com
SUMMARY:DUPLO USA TO HOST OPEN HOUSE IN CHICAGO
DESCRIPTION:
URL:https://postpressmag.com/event/duplo-usa-to-host-open-house-in-chicago/
LOCATION:WI
CATEGORIES:Tradeshow
ATTACH;FMTTYPE=image/png:https://postpressmag.com/wp-content/uploads/PP-Featured-Image.png
END:VEVENT
BEGIN:VEVENT
DTSTART;VALUE=DATE:20210628
DTEND;VALUE=DATE:20210630
DTSTAMP:20260421T213959
CREATED:20210517T193402Z
LAST-MODIFIED:20210517T194033Z
UID:6899-1624838400-1625011199@postpressmag.com
SUMMARY:Digital Print for Packaging US
DESCRIPTION:
URL:https://postpressmag.com/event/digital-print-for-packaging-us-2/
LOCATION:Phoenix\, AZ
CATEGORIES:Virtual
ATTACH;FMTTYPE=image/png:https://postpressmag.com/wp-content/uploads/PP-Featured-Image.png
END:VEVENT
BEGIN:VEVENT
DTSTART;VALUE=DATE:20210628
DTEND;VALUE=DATE:20210630
DTSTAMP:20260421T213959
CREATED:20210415T155843Z
LAST-MODIFIED:20210415T155843Z
UID:6856-1624838400-1625011199@postpressmag.com
SUMMARY:Digital Print for Packaging US
DESCRIPTION:
URL:https://postpressmag.com/event/digital-print-for-packaging-us/
LOCATION:Phoenix\, Arizona
ATTACH;FMTTYPE=image/png:https://postpressmag.com/wp-content/uploads/PP-Featured-Image.png
END:VEVENT
BEGIN:VEVENT
DTSTART;VALUE=DATE:20210622
DTEND;VALUE=DATE:20210625
DTSTAMP:20260421T213959
CREATED:20201214T221759Z
LAST-MODIFIED:20201214T221909Z
UID:6467-1624320000-1624579199@postpressmag.com
SUMMARY:ICE Europe\, CCE International and InPrint Munich
DESCRIPTION:ICE Europe: https://www.ice-x.com/europe/2021/english/press/downloads/\nCCE International: https://www.cce-international.com/2021/english/press/downloads/\nInPrint Munich: https://www.inprintmunich.com/2021/en/press/downloads/
URL:https://postpressmag.com/event/ice-europe-cce-international-and-inprint-munich/
LOCATION:Munich Trade Fair Centre\, Germany
CATEGORIES:Tradeshow
ATTACH;FMTTYPE=image/png:https://postpressmag.com/wp-content/uploads/PP-Featured-Image.png
END:VEVENT
BEGIN:VEVENT
DTSTART;VALUE=DATE:20210608
DTEND;VALUE=DATE:20210611
DTSTAMP:20260421T213959
CREATED:20201209T210906Z
LAST-MODIFIED:20201209T210906Z
UID:6406-1623110400-1623369599@postpressmag.com
SUMMARY:Brand Print Americas 2021
DESCRIPTION:
URL:https://postpressmag.com/event/brand-print-americas-2021/
LOCATION:WI
CATEGORIES:Expo
ATTACH;FMTTYPE=image/png:https://postpressmag.com/wp-content/uploads/PP-Featured-Image.png
END:VEVENT
BEGIN:VEVENT
DTSTART;VALUE=DATE:20210608
DTEND;VALUE=DATE:20210611
DTSTAMP:20260421T213959
CREATED:20200605T164122Z
LAST-MODIFIED:20201016T193017Z
UID:4973-1623110400-1623369599@postpressmag.com
SUMMARY:Labelexpo Americas 2021
DESCRIPTION:TECHNOLOGY IN ACTION\nWhether you’re choosing machinery or materials\, it is vital you feel confident about your decisions. The best way to do this is to see all the options together in one place. \nCome to Labelexpo Americas 2021 and hear the noise of the machinery in operation\, feel the texture of the substrates and see the print quality for yourself. \nMagazines\, websites and brochures cannot compare. Experience it live and make a better choice.
URL:https://postpressmag.com/event/labelexpo-americas-2021/
LOCATION:Stephens Convention Center\, Rosemont\, IL
CATEGORIES:Tradeshow
ATTACH;FMTTYPE=image/png:https://postpressmag.com/wp-content/uploads/PP-Featured-Image.png
END:VEVENT
BEGIN:VEVENT
DTSTART;TZID=America/Chicago:20210527T080000
DTEND;TZID=America/Chicago:20210527T170000
DTSTAMP:20260421T213959
CREATED:20210527T185613Z
LAST-MODIFIED:20210527T185613Z
UID:6939-1622102400-1622134800@postpressmag.com
SUMMARY:Label Congress 2021
DESCRIPTION:
URL:https://postpressmag.com/event/label-congress-2021-2/
LOCATION:WI
CATEGORIES:Expo
ATTACH;FMTTYPE=image/png:https://postpressmag.com/wp-content/uploads/PP-Featured-Image.png
END:VEVENT
BEGIN:VEVENT
DTSTART;VALUE=DATE:20210420
DTEND;VALUE=DATE:20210424
DTSTAMP:20260421T213959
CREATED:20201203T164447Z
LAST-MODIFIED:20201203T164447Z
UID:6314-1618876800-1619222399@postpressmag.com
SUMMARY:virtual.drupa 2021
DESCRIPTION:
URL:https://postpressmag.com/event/virtual-drupa-2021/
LOCATION:WI
CATEGORIES:Virtual
ATTACH;FMTTYPE=image/png:https://postpressmag.com/wp-content/uploads/PP-Featured-Image.png
END:VEVENT
BEGIN:VEVENT
DTSTART;VALUE=DATE:20210121
DTEND;VALUE=DATE:20210122
DTSTAMP:20260421T213959
CREATED:20210115T172357Z
LAST-MODIFIED:20210115T172555Z
UID:6534-1611187200-1611273599@postpressmag.com
SUMMARY:Elevate Your Brand
DESCRIPTION:Neenah Hosts “Elevate Your Brand\,” an Exclusive Packaging Webinar for Printers  \nA new year means new business opportunities for printing and packaging professionals. Why not start it off right with a webinar chock full of marketing insights from your friends at Neenah? \n“Elevate Your Brand” is a webinar from Neenah on January 21\, 2021\, where you will learn to focus on growth markets\, packaging trends\, and printing techniques that are sure to wow your clients and set you apart from your competitors. \nDallas Franklin\, Creative Director for Neenah\, and Scott Gasch\, President of Fey Printing\, will be leading the presentation\, sharing tips on how to impress with unique\, uncoated packaging in growth markets like cannabis\, spirits\, beauty\, and personal care. This conversation complements Neenah’s recently released packaging focused promotion also titled\, “Elevate Your Brand.” \nTogether\, they will inspire you and your customers seeking sustainable solutions to create memorable brand packaging using folding board\, box wrap\, and labels all designed to be earth-friendly while providing exceptional printability and performance. \nNeenah’s Sustainability Manager\, Kristen Duncan\, joins the webinar providing information on Neenah’s environmental certifications\, commitment to responsible fiber sourcing\, and conservation efforts. When you design with sustainability in mind\, you can deliberately choose packaging that accentuates the natural look and feel of products within and supports a belief in natural\, holistic\, and sustainable choices. \nAsked about the webinar\, Gasch said that this webinar is a chance for print professionals to gather and hear from industry leaders on topics relevant to the growing packaging market. As printers\, we owe it to our clients to stay at the forefront of today’s relevant issues such as sustainability\, the power of premium packaging\, and trends in specialty printing techniques that allow brands to stand out on the shelf. \nThis webinar intends to arm you with the latest information so you can inspire your customers and grow your business. After the webinar\, each attendee will receive a complementary copy of Neenah’s “Elevate Your Brand” packaging promotion. \nRegister here: neenahpaper.com/elevate-your-brand \n 
URL:https://postpressmag.com/event/elevate-your-brand/
LOCATION:WI
CATEGORIES:Webinar
ATTACH;FMTTYPE=image/png:https://postpressmag.com/wp-content/uploads/PP-Featured-Image.png
END:VEVENT
BEGIN:VEVENT
DTSTART;VALUE=DATE:20201109
DTEND;VALUE=DATE:20201114
DTSTAMP:20260421T213959
CREATED:20200605T165356Z
LAST-MODIFIED:20201006T150929Z
UID:4984-1604880000-1605311999@postpressmag.com
SUMMARY:PACK EXPO Connects 2020
DESCRIPTION:Produced by PMMI Media Group\, PACK EXPO Connects is a virtual event like no other. Live chats\, live product demos and enhanced lead generation are just a few of many items offered to maximize opportunities for industry connections. \nConnect with new and current customers during the year’s most exciting week for packaging – the launch of PACK EXPO Connects on November 9th!
URL:https://postpressmag.com/event/pack-expo-international-2020/
LOCATION:WI
CATEGORIES:Expo,Virtual
ATTACH;FMTTYPE=image/png:https://postpressmag.com/wp-content/uploads/PP-Featured-Image.png
END:VEVENT
BEGIN:VEVENT
DTSTART;VALUE=DATE:20201026
DTEND;VALUE=DATE:20201113
DTSTAMP:20260421T213959
CREATED:20200911T211002Z
LAST-MODIFIED:20200911T211002Z
UID:5272-1603670400-1605225599@postpressmag.com
SUMMARY:PRINTING United Digital Experience
DESCRIPTION:The multifaceted online experience spans 14 action-packed days of carefully curated keynotes\, educational programming\, and worldwide product launches and demonstrations being offered at no charge to attendees\, as the industry moves toward recovery in 2021. \nSegment-based content sessions that focus on apparel\, digital textile\, industrial\, graphics/wide-format\, commercial\, packaging\, and mailing and fulfillment have already garnered attention from printers around the globe. The platform includes a wealth of information and insight from leading analysts\, researchers\, subject matter experts\, OEMs\, and suppliers. This robust combination creates a unique educational experience for printers to best understand the current landscape\, optimize recovery\, and see the latest technology to drive their businesses forward. In a time when these types of rich experiences have not been possible\, PRINTING United Alliance is mission-driven to ensure it is delivering on its promise to be the go-to place for all things related to printing.
URL:https://postpressmag.com/event/printing-united-digital-experience/
LOCATION:WI
CATEGORIES:Expo,Virtual
ATTACH;FMTTYPE=image/png:https://postpressmag.com/wp-content/uploads/PP-Featured-Image.png
END:VEVENT
BEGIN:VEVENT
DTSTART;VALUE=DATE:20201021
DTEND;VALUE=DATE:20201024
DTSTAMP:20260421T213959
CREATED:20200605T164650Z
LAST-MODIFIED:20200714T160715Z
UID:4977-1603238400-1603497599@postpressmag.com
SUMMARY:PRINTING United 2020 - A Virtual Event
DESCRIPTION:
URL:https://postpressmag.com/event/printing-united-2020/
LOCATION:WI
CATEGORIES:Conference,Tradeshow,Virtual
ATTACH;FMTTYPE=image/png:https://postpressmag.com/wp-content/uploads/PP-Featured-Image.png
END:VEVENT
BEGIN:VEVENT
DTSTART;VALUE=DATE:20201018
DTEND;VALUE=DATE:20201022
DTSTAMP:20260421T213959
CREATED:20200605T165134Z
LAST-MODIFIED:20200911T144155Z
UID:4981-1602979200-1603324799@postpressmag.com
SUMMARY:AIMCAL R2R Conference USA and SPE FlexPackCon 2020 Virtual Event
DESCRIPTION:AIMCAL and SPE are excited to announce that 2020 R2R will now be a Virtual Event from October 19 – 23! Join us online from the comfort of your office or home – using your laptop\, desktop\, tablet\, or phone. Interact in a full virtual conference experience\, featuring all the technical content\, keynote presentations\, exhibits\, and networking of our in-person event. Including interactive networking throughout\, Instant connections with any attendee\, sponsor\, exhibitor and speaker\, and numerous sponsorship options built into the entire system.  Plus\, attendees can instant message any attendee at the conference. And schedule one-on-one video meetings too!\n​\nThe AIMCAL R2R Conference has been a champion of roll-to-roll processing\, and the converting industry for many years. If you are a newcomer to this annual event\, you will see why it consistently rates high as a valuable resource for anyone who has interest in the R2R process. The conference has steadily grown by delivering solid technical programming and valuable networking opportunities to attendees.
URL:https://postpressmag.com/event/aimcal-r2r-conference-usa-and-spe-flexpackcon-2020/
LOCATION:WI
CATEGORIES:Conference,Virtual
ATTACH;FMTTYPE=image/png:https://postpressmag.com/wp-content/uploads/PP-Featured-Image.png
END:VEVENT
BEGIN:VEVENT
DTSTART;TZID=America/New_York:20201013T110000
DTEND;TZID=America/New_York:20201013T150000
DTSTAMP:20260421T213959
CREATED:20201006T204736Z
LAST-MODIFIED:20201006T204736Z
UID:5549-1602586800-1602601200@postpressmag.com
SUMMARY:LeadingPRINT Fall 2020 Summit
DESCRIPTION:Disruption is anything new to our industry. Every decade seems to bring something that profoundly impacts what we do and how we do it – whether that be new technology\, the economy or changing consumer preferences. Those that survive – those that thrive – learn to adapt to disruptive changes and build something new from what they’ve learned. \nThat’s what we bring you with the LeadingPRINT Summit – solid advice from some very smart people that want to help you thrive\, despite the uncertain times. This is the path forward. Let’s get on with business!
URL:https://postpressmag.com/event/leadingprint-fall-2020-summit/
LOCATION:WI
CATEGORIES:Summit,Virtual
ATTACH;FMTTYPE=image/png:https://postpressmag.com/wp-content/uploads/PP-Featured-Image.png
END:VEVENT
BEGIN:VEVENT
DTSTART;VALUE=DATE:20201006
DTEND;VALUE=DATE:20201009
DTSTAMP:20260421T213959
CREATED:20200127T201733Z
LAST-MODIFIED:20200127T201733Z
UID:4525-1601942400-1602201599@postpressmag.com
SUMMARY:MBO Fold School: Advanced
DESCRIPTION:MBO understands that machine downtime is detrimental to your business and the key to maintaining production efficiency is a well-trained operator. MBO Fold School courses are designed to increase your operator’s understanding of paper behavior\, folding principles\, issue troubleshooting\, and problem resolution. The skills they will learn at our fold school will immediately make a positive impact on your production capabilities.
URL:https://postpressmag.com/event/mbo-fold-school-advanced-october/
LOCATION:MBO America\, 4 E Stow Rd\, STE 12\, Marlton\, NJ\, 08053
CATEGORIES:Training
ATTACH;FMTTYPE=image/png:https://postpressmag.com/wp-content/uploads/PP-Featured-Image.png
END:VEVENT
BEGIN:VEVENT
DTSTART;VALUE=DATE:20200928
DTEND;VALUE=DATE:20201003
DTSTAMP:20260421T213959
CREATED:20200911T201503Z
LAST-MODIFIED:20200911T201503Z
UID:5261-1601251200-1601683199@postpressmag.com
SUMMARY:Label Virtual Summit 2020
DESCRIPTION:JOIN LABELEXPO’S VERY FIRST VIRTUAL CONFERENCE FOR THE LABEL AND PACKAGE PRINTING INDUSTRY!\n\nNow more than ever it’s vital to enhance your industry knowledge and stay connected with the trends and latest technology developments. \nLabelexpo’s very first Virtual Label Summit is an incredible opportunity to achieve this. During 5 days of expert-led sessions you’ll learn about the technology and key trends affecting the global label and package printing market\, and discover how to adapt your operation to these changing times. \nLeave equipped with the insight and a winning strategy to grow your business for lasting success.
URL:https://postpressmag.com/event/label-virtual-summit-2020/
LOCATION:WI
CATEGORIES:Conference,Virtual
ATTACH;FMTTYPE=image/png:https://postpressmag.com/wp-content/uploads/PP-Featured-Image.png
END:VEVENT
END:VCALENDAR